BEGIN:VCALENDAR
VERSION:2.0
PRODID:-//Tukios.com/
BEGIN:VEVENT
UID:f4f0726c-3bc2-45bf-aa8b-92ce415a43e6@www.westburyfuneralhomes.com
DTSTAMP:20260426T010438Z
DTSTART:20260429T193000Z
DTEND:20260429T203000Z
SUMMARY:Interment
DESCRIPTION:
URL:https://www.westburyfuneralhomes.com/obituaries/robert-young-sr
LOCATION:    Jenkinsburg GA 30234
GEO:33.3245628;-84.0357465
END:VEVENT
END:VCALENDAR