BEGIN:VCALENDAR
VERSION:2.0
PRODID:-//Tukios.com/
BEGIN:VEVENT
UID:5bf02ad6-c059-44c9-8858-4093a9f9d07c@www.westburyfuneralhomes.com
DTSTAMP:20260426T010543Z
DTSTART:20260428T220000Z
DTEND:20260429T000000Z
SUMMARY:Visitation
DESCRIPTION:
URL:https://www.westburyfuneralhomes.com/obituaries/robert-young-sr
LOCATION:Sherrell-Westbury Funeral Home 212 E College St  Jackson GA 
	30233
GEO:33.2925695;-83.9653469
END:VEVENT
END:VCALENDAR