BEGIN:VCALENDAR
VERSION:2.0
PRODID:-//Tukios.com/
BEGIN:VEVENT
UID:121646ca-9a27-4aaf-ba94-a1ee9ad291bd@www.westburyfuneralhomes.com
DTSTAMP:20260426T010723Z
DTSTART:20260429T180000Z
DTEND:20260429T190000Z
SUMMARY:Funeral Service
DESCRIPTION:
URL:https://www.westburyfuneralhomes.com/obituaries/robert-young-sr
LOCATION: 212 E College St  Jackson GA 30233
GEO:33.2925695;-83.9653469
END:VEVENT
END:VCALENDAR